BEGIN:VCALENDAR
VERSION:2.0
PRODID:-//Blue Horizon Country Band - ECPv6.15.11//NONSGML v1.0//EN
CALSCALE:GREGORIAN
METHOD:PUBLISH
X-ORIGINAL-URL:https://www.bluehorizonband.co.uk
X-WR-CALDESC:Events for Blue Horizon Country Band
REFRESH-INTERVAL;VALUE=DURATION:PT1H
X-Robots-Tag:noindex
X-PUBLISHED-TTL:PT1H
BEGIN:VTIMEZONE
TZID:Europe/London
BEGIN:DAYLIGHT
TZOFFSETFROM:+0000
TZOFFSETTO:+0100
TZNAME:BST
DTSTART:20240331T010000
END:DAYLIGHT
BEGIN:STANDARD
TZOFFSETFROM:+0100
TZOFFSETTO:+0000
TZNAME:GMT
DTSTART:20241027T010000
END:STANDARD
BEGIN:DAYLIGHT
TZOFFSETFROM:+0000
TZOFFSETTO:+0100
TZNAME:BST
DTSTART:20250330T010000
END:DAYLIGHT
BEGIN:STANDARD
TZOFFSETFROM:+0100
TZOFFSETTO:+0000
TZNAME:GMT
DTSTART:20251026T010000
END:STANDARD
BEGIN:DAYLIGHT
TZOFFSETFROM:+0000
TZOFFSETTO:+0100
TZNAME:BST
DTSTART:20260329T010000
END:DAYLIGHT
BEGIN:STANDARD
TZOFFSETFROM:+0100
TZOFFSETTO:+0000
TZNAME:GMT
DTSTART:20261025T010000
END:STANDARD
END:VTIMEZONE
BEGIN:VEVENT
DTSTART;VALUE=DATE:20251114
DTEND;VALUE=DATE:20251115
DTSTAMP:20260421T235709
CREATED:20251109T153124Z
LAST-MODIFIED:20251109T154730Z
UID:567-1763078400-1763164799@www.bluehorizonband.co.uk
SUMMARY:Jonny & Lynnette Holidays Weekend
DESCRIPTION:Friday 14/11/2025 Duo Jonny & Lynnette Holidays Weekend  Craiglands Hotel Cowpasture Road\, Ilkley LS29 8RQ tel: 07928503467  or 01623 616030 for booking
URL:https://www.bluehorizonband.co.uk/event/friday-14-11-2025/
CATEGORIES:Blue Horizon
END:VEVENT
BEGIN:VEVENT
DTSTART;VALUE=DATE:20251120
DTEND;VALUE=DATE:20251121
DTSTAMP:20260421T235709
CREATED:20251109T153445Z
LAST-MODIFIED:20251109T154724Z
UID:570-1763596800-1763683199@www.bluehorizonband.co.uk
SUMMARY:Broken Wheel CMC Hesleden WMC  Club
DESCRIPTION:Thursday 20/11/2025 Duo Broken Wheel CMC Hesleden WMC  Club\, Front Street\, Hesleden Teesside TS27 4PH
URL:https://www.bluehorizonband.co.uk/event/broken-wheel-cmc-hesleden-wmc-club/
CATEGORIES:Blue Horizon
END:VEVENT
END:VCALENDAR