BEGIN:VCALENDAR
VERSION:2.0
PRODID:-//Blue Horizon Country Band - ECPv6.15.11//NONSGML v1.0//EN
CALSCALE:GREGORIAN
METHOD:PUBLISH
X-ORIGINAL-URL:https://www.bluehorizonband.co.uk
X-WR-CALDESC:Events for Blue Horizon Country Band
REFRESH-INTERVAL;VALUE=DURATION:PT1H
X-Robots-Tag:noindex
X-PUBLISHED-TTL:PT1H
BEGIN:VTIMEZONE
TZID:Europe/London
BEGIN:DAYLIGHT
TZOFFSETFROM:+0000
TZOFFSETTO:+0100
TZNAME:BST
DTSTART:20250330T010000
END:DAYLIGHT
BEGIN:STANDARD
TZOFFSETFROM:+0100
TZOFFSETTO:+0000
TZNAME:GMT
DTSTART:20251026T010000
END:STANDARD
BEGIN:DAYLIGHT
TZOFFSETFROM:+0000
TZOFFSETTO:+0100
TZNAME:BST
DTSTART:20260329T010000
END:DAYLIGHT
BEGIN:STANDARD
TZOFFSETFROM:+0100
TZOFFSETTO:+0000
TZNAME:GMT
DTSTART:20261025T010000
END:STANDARD
BEGIN:DAYLIGHT
TZOFFSETFROM:+0000
TZOFFSETTO:+0100
TZNAME:BST
DTSTART:20270328T010000
END:DAYLIGHT
BEGIN:STANDARD
TZOFFSETFROM:+0100
TZOFFSETTO:+0000
TZNAME:GMT
DTSTART:20271031T010000
END:STANDARD
END:VTIMEZONE
BEGIN:VEVENT
DTSTART;VALUE=DATE:20260306
DTEND;VALUE=DATE:20260307
DTSTAMP:20260421T170238
CREATED:20251121T221358Z
LAST-MODIFIED:20260305T191156Z
UID:644-1772755200-1772841599@www.bluehorizonband.co.uk
SUMMARY:Nashville Sessions\, Acomb Sports Club Acomb York YO26 5FG
DESCRIPTION:Blue Horizon Duo \nNashville Sessions \nSports and Social Club Acomb York YO26 5FG  YO10 4AE
URL:https://www.bluehorizonband.co.uk/event/nashville-sessions/
CATEGORIES:Blue Horizon
END:VEVENT
BEGIN:VEVENT
DTSTART;VALUE=DATE:20260318
DTEND;VALUE=DATE:20260319
DTSTAMP:20260421T170238
CREATED:20251109T202254Z
LAST-MODIFIED:20251109T202254Z
UID:618-1773792000-1773878399@www.bluehorizonband.co.uk
SUMMARY:Guisborough Territorial Club
DESCRIPTION:Blu Horizon Band \nGuisborough TA Rectory Lane Guisborough TS14 6QH
URL:https://www.bluehorizonband.co.uk/event/guisborough-territorial-club-2/
CATEGORIES:Blue Horizon
END:VEVENT
BEGIN:VEVENT
DTSTART;VALUE=DATE:20260328
DTEND;VALUE=DATE:20260329
DTSTAMP:20260421T170238
CREATED:20251121T222611Z
LAST-MODIFIED:20251121T222611Z
UID:646-1774656000-1774742399@www.bluehorizonband.co.uk
SUMMARY:Walesby Mini Festival
DESCRIPTION:Blue Horizon Band \nWalseby Sports & Social club \nForest Lane\,Walesby \nNewark NG22 9PF
URL:https://www.bluehorizonband.co.uk/event/walesby-mini-festival/
CATEGORIES:Blue Horizon
END:VEVENT
BEGIN:VEVENT
DTSTART;VALUE=DATE:20260331
DTEND;VALUE=DATE:20260401
DTSTAMP:20260421T170238
CREATED:20251121T222935Z
LAST-MODIFIED:20251121T224811Z
UID:648-1774915200-1775001599@www.bluehorizonband.co.uk
SUMMARY:Gillys Country Music Club Wakefield
DESCRIPTION:Blue Horizon Trio \nGillys CMC \nWestgate Common Working Mens Club\n5 Park Grove Road\nWakefield WF2 8TW
URL:https://www.bluehorizonband.co.uk/event/648/
CATEGORIES:Blue Horizon
END:VEVENT
END:VCALENDAR