BEGIN:VCALENDAR
VERSION:2.0
PRODID:-//Blue Horizon Country Band - ECPv6.15.11//NONSGML v1.0//EN
CALSCALE:GREGORIAN
METHOD:PUBLISH
X-WR-CALNAME:Blue Horizon Country Band
X-ORIGINAL-URL:https://www.bluehorizonband.co.uk
X-WR-CALDESC:Events for Blue Horizon Country Band
REFRESH-INTERVAL;VALUE=DURATION:PT1H
X-Robots-Tag:noindex
X-PUBLISHED-TTL:PT1H
BEGIN:VTIMEZONE
TZID:Europe/London
BEGIN:DAYLIGHT
TZOFFSETFROM:+0000
TZOFFSETTO:+0100
TZNAME:BST
DTSTART:20250330T010000
END:DAYLIGHT
BEGIN:STANDARD
TZOFFSETFROM:+0100
TZOFFSETTO:+0000
TZNAME:GMT
DTSTART:20251026T010000
END:STANDARD
BEGIN:DAYLIGHT
TZOFFSETFROM:+0000
TZOFFSETTO:+0100
TZNAME:BST
DTSTART:20260329T010000
END:DAYLIGHT
BEGIN:STANDARD
TZOFFSETFROM:+0100
TZOFFSETTO:+0000
TZNAME:GMT
DTSTART:20261025T010000
END:STANDARD
BEGIN:DAYLIGHT
TZOFFSETFROM:+0000
TZOFFSETTO:+0100
TZNAME:BST
DTSTART:20270328T010000
END:DAYLIGHT
BEGIN:STANDARD
TZOFFSETFROM:+0100
TZOFFSETTO:+0000
TZNAME:GMT
DTSTART:20271031T010000
END:STANDARD
BEGIN:DAYLIGHT
TZOFFSETFROM:+0000
TZOFFSETTO:+0100
TZNAME:BST
DTSTART:20280326T010000
END:DAYLIGHT
BEGIN:STANDARD
TZOFFSETFROM:+0100
TZOFFSETTO:+0000
TZNAME:GMT
DTSTART:20281029T010000
END:STANDARD
END:VTIMEZONE
BEGIN:VEVENT
DTSTART;VALUE=DATE:20260522
DTEND;VALUE=DATE:20260523
DTSTAMP:20260421T130212
CREATED:20260111T155704Z
LAST-MODIFIED:20260111T155704Z
UID:666-1779408000-1779494399@www.bluehorizonband.co.uk
SUMMARY:Aldwinians Rugby Club
DESCRIPTION:Blue Horizon Band \nAldwinians Rugby Club Audenshaw M34 55N
URL:https://www.bluehorizonband.co.uk/event/aldwinians-rugby-club/
CATEGORIES:Blue Horizon
END:VEVENT
BEGIN:VEVENT
DTSTART;VALUE=DATE:20260626
DTEND;VALUE=DATE:20260627
DTSTAMP:20260421T130212
CREATED:20260111T160635Z
LAST-MODIFIED:20260111T160635Z
UID:670-1782432000-1782518399@www.bluehorizonband.co.uk
SUMMARY:Sams Place Uplands Community Lowestoft
DESCRIPTION:Blue Horizon Trio Community Centre Ashburnham Way Lowestoft Suffolk NR33 8SI
URL:https://www.bluehorizonband.co.uk/event/sams-place-uplands-community-lowestoft/
CATEGORIES:Blue Horizon
END:VEVENT
BEGIN:VEVENT
DTSTART;VALUE=DATE:20260815
DTEND;VALUE=DATE:20260816
DTSTAMP:20260421T130212
CREATED:20260111T001727Z
LAST-MODIFIED:20260111T205246Z
UID:676-1786752000-1786838399@www.bluehorizonband.co.uk
SUMMARY:St Brendans Glasgow
DESCRIPTION:Blue Horizon Duo St Brendan’s Kelso Street Yoker Glasgow G13 4BH
URL:https://www.bluehorizonband.co.uk/event/st-brendans-glasgow/
CATEGORIES:Blue Horizon
END:VEVENT
BEGIN:VEVENT
DTSTART;VALUE=DATE:20260815
DTEND;VALUE=DATE:20260816
DTSTAMP:20260421T130212
CREATED:20260305T192002Z
LAST-MODIFIED:20260305T193730Z
UID:713-1786752000-1786838399@www.bluehorizonband.co.uk
SUMMARY:Pheonix Rebels CMC Yoker
DESCRIPTION:Blue Horizon Duo Pheonix Rebels CMC St Brendan’s RC church 187 Kelso Street Yoker
URL:https://www.bluehorizonband.co.uk/event/pheonix-rebels-cmc-yoker/
CATEGORIES:Blue Horizon
END:VEVENT
BEGIN:VEVENT
DTSTART;VALUE=DATE:20260820
DTEND;VALUE=DATE:20260821
DTSTAMP:20260421T130212
CREATED:20260111T162423Z
LAST-MODIFIED:20260111T162423Z
UID:678-1787184000-1787270399@www.bluehorizonband.co.uk
SUMMARY:Dorman Long United Atheltic Club Middlesbrough
DESCRIPTION:Blue Horizon Band  Dorman Long United Athletic Club Middlesbrough TS5 5DT
URL:https://www.bluehorizonband.co.uk/event/dorman-long-united-atheltic-club-middlesbrough/
CATEGORIES:Blue Horizon
END:VEVENT
BEGIN:VEVENT
DTSTART;VALUE=DATE:20260821
DTEND;VALUE=DATE:20260822
DTSTAMP:20260421T130212
CREATED:20260111T165514Z
LAST-MODIFIED:20260111T165514Z
UID:680-1787270400-1787356799@www.bluehorizonband.co.uk
SUMMARY:Motor Home Festival Severn Hall
DESCRIPTION:Blue Horizon Band\, Motor Home Festival Severn Hall Malvern
URL:https://www.bluehorizonband.co.uk/event/motor-home-festival-severn-hall/
CATEGORIES:Blue Horizon
END:VEVENT
BEGIN:VEVENT
DTSTART;VALUE=DATE:20260901
DTEND;VALUE=DATE:20260902
DTSTAMP:20260421T130212
CREATED:20260111T202652Z
LAST-MODIFIED:20260111T202652Z
UID:684-1788220800-1788307199@www.bluehorizonband.co.uk
SUMMARY:Gillys Country Music Club Wakefield
DESCRIPTION:Blue Horizon Trio Westgate common WMC
URL:https://www.bluehorizonband.co.uk/event/gillys-country-music-club-wakefield/
LOCATION:westgate commonWMC wakefield
CATEGORIES:Blue Horizon
END:VEVENT
BEGIN:VEVENT
DTSTART;VALUE=DATE:20260910
DTEND;VALUE=DATE:20260911
DTSTAMP:20260421T130212
CREATED:20260111T204334Z
LAST-MODIFIED:20260111T204356Z
UID:689-1788998400-1789084799@www.bluehorizonband.co.uk
SUMMARY:Broken Wheel CMC Hesledon
DESCRIPTION:Blue Horizon Duo Hesledon Club TS27 4PH
URL:https://www.bluehorizonband.co.uk/event/broken-wheel-cmc-hesledon/
CATEGORIES:Blue Horizon
END:VEVENT
BEGIN:VEVENT
DTSTART;VALUE=DATE:20260919
DTEND;VALUE=DATE:20260920
DTSTAMP:20260421T130212
CREATED:20251109T203359Z
LAST-MODIFIED:20251109T205901Z
UID:621-1789776000-1789862399@www.bluehorizonband.co.uk
SUMMARY:Ranch House Stokesley
DESCRIPTION:Blue Horizon Duo \nThoraldby Farm near Stokesley SKUTTERSKLFE Yarm Cleveland TS15 0JR \n  \n 
URL:https://www.bluehorizonband.co.uk/event/ranch-house-stokesley/
CATEGORIES:Blue Horizon
END:VEVENT
BEGIN:VEVENT
DTSTART;VALUE=DATE:20260927
DTEND;VALUE=DATE:20260928
DTSTAMP:20260421T130212
CREATED:20260112T195859Z
LAST-MODIFIED:20260112T195859Z
UID:691-1790467200-1790553599@www.bluehorizonband.co.uk
SUMMARY:Freckleton Raiders CMC
DESCRIPTION:Blue Horizon Duo \nFreckleton Sports & Social Club Preston old Road Freckleton Preston PR4 1PB \n 
URL:https://www.bluehorizonband.co.uk/event/freckleton-raiders-cmc/
CATEGORIES:Blue Horizon
END:VEVENT
BEGIN:VEVENT
DTSTART;VALUE=DATE:20261002
DTEND;VALUE=DATE:20261003
DTSTAMP:20260421T130212
CREATED:20251109T204414Z
LAST-MODIFIED:20251109T204414Z
UID:627-1790899200-1790985599@www.bluehorizonband.co.uk
SUMMARY:Pegswood Miners Welfare
DESCRIPTION:Blue Horizon Duo \nPegswood Miners Welfare Pegswood Community Centre \nFront Street Morpeth\,NE61 6UF
URL:https://www.bluehorizonband.co.uk/event/pegswood-miners-welfare/
CATEGORIES:Blue Horizon
END:VEVENT
BEGIN:VEVENT
DTSTART;VALUE=DATE:20261017
DTEND;VALUE=DATE:20261018
DTSTAMP:20260421T130212
CREATED:20260112T200556Z
LAST-MODIFIED:20260112T200556Z
UID:695-1792195200-1792281599@www.bluehorizonband.co.uk
SUMMARY:Glasgow Grand Ole Opry
DESCRIPTION:Blue Horizon Trio  2-4 Govan Road Kinning Park Glasgow G51 1HS
URL:https://www.bluehorizonband.co.uk/event/glasgow-grand-ole-opry-2/
CATEGORIES:Blue Horizon
END:VEVENT
BEGIN:VEVENT
DTSTART;TZID=Europe/London:20261021T080000
DTEND;TZID=Europe/London:20261021T170000
DTSTAMP:20260421T130212
CREATED:20251109T204617Z
LAST-MODIFIED:20260112T201406Z
UID:629-1792569600-1792602000@www.bluehorizonband.co.uk
SUMMARY:Guisborough TA
DESCRIPTION:Blue Horizon Band \nRectory Lane Guisborough  Cleveland TS14 6QH
URL:https://www.bluehorizonband.co.uk/event/guisborough-ta/
CATEGORIES:Blue Horizon
END:VEVENT
BEGIN:VEVENT
DTSTART;VALUE=DATE:20261022
DTEND;VALUE=DATE:20261023
DTSTAMP:20260421T130212
CREATED:20260112T201818Z
LAST-MODIFIED:20260112T201818Z
UID:700-1792627200-1792713599@www.bluehorizonband.co.uk
SUMMARY:Elgin Country Music Club
DESCRIPTION:Blue Horizon Trio\,  Elgin Ex Services Club 9 High Street\, Elgin IV30 1EQ
URL:https://www.bluehorizonband.co.uk/event/elgin-country-music-club/
CATEGORIES:Blue Horizon
END:VEVENT
BEGIN:VEVENT
DTSTART;VALUE=DATE:20261024
DTEND;VALUE=DATE:20261025
DTSTAMP:20260421T130212
CREATED:20260112T202324Z
LAST-MODIFIED:20260112T202340Z
UID:702-1792800000-1792886399@www.bluehorizonband.co.uk
SUMMARY:Stonehaven CMC
DESCRIPTION:Blue Horizon Trio  Station Hotel Arduthie Road StonehavenAB39 2NE
URL:https://www.bluehorizonband.co.uk/event/stonehaven-cmc/
CATEGORIES:Blue Horizon
END:VEVENT
BEGIN:VEVENT
DTSTART;VALUE=DATE:20261128
DTEND;VALUE=DATE:20261129
DTSTAMP:20260421T130212
CREATED:20260112T202725Z
LAST-MODIFIED:20260112T202725Z
UID:704-1795824000-1795910399@www.bluehorizonband.co.uk
SUMMARY:Painted Wagon CMC Croft
DESCRIPTION:Blue Horizon Band  Croft WMC 6 Hurworth Road Hurworth Place Darlington DL2 2DA
URL:https://www.bluehorizonband.co.uk/event/painted-wagon-cmc-croft/
CATEGORIES:Blue Horizon
END:VEVENT
BEGIN:VEVENT
DTSTART;VALUE=DATE:20261203
DTEND;VALUE=DATE:20261204
DTSTAMP:20260421T130212
CREATED:20251109T204806Z
LAST-MODIFIED:20251109T204806Z
UID:631-1796256000-1796342399@www.bluehorizonband.co.uk
SUMMARY:Renishaw Miners Welfare
DESCRIPTION:Blue Horizon Duo \n138 Main Road Renishaw Sheffield S21 3UW
URL:https://www.bluehorizonband.co.uk/event/renishaw-miners-welfare-2/
CATEGORIES:Blue Horizon
END:VEVENT
BEGIN:VEVENT
DTSTART;VALUE=DATE:20271125
DTEND;VALUE=DATE:20271126
DTSTAMP:20260421T130212
CREATED:20260112T203340Z
LAST-MODIFIED:20260112T203340Z
UID:706-1827100800-1827187199@www.bluehorizonband.co.uk
SUMMARY:Renishaw Miners Welfare
DESCRIPTION:Blue Horizon Duo 138 Main Road Renishaw Sheffield S21 3UW
URL:https://www.bluehorizonband.co.uk/event/renishaw-miners-welfare/
CATEGORIES:Blue Horizon
END:VEVENT
END:VCALENDAR